BEGIN:VCALENDAR
VERSION:2.0
PRODID:-//Seton Foundation For Learning - ECPv6.10.2//NONSGML v1.0//EN
CALSCALE:GREGORIAN
METHOD:PUBLISH
X-ORIGINAL-URL:https://sflschools.org
X-WR-CALDESC:Events for Seton Foundation For Learning
REFRESH-INTERVAL;VALUE=DURATION:PT1H
X-Robots-Tag:noindex
X-PUBLISHED-TTL:PT1H
BEGIN:VTIMEZONE
TZID:UTC
BEGIN:STANDARD
TZOFFSETFROM:+0000
TZOFFSETTO:+0000
TZNAME:UTC
DTSTART:20250101T000000
END:STANDARD
END:VTIMEZONE
BEGIN:VEVENT
DTSTART;VALUE=DATE:20250329
DTEND;VALUE=DATE:20250330
DTSTAMP:20260422T065145
CREATED:20250305T183848Z
LAST-MODIFIED:20250318T132632Z
UID:10000006-1743206400-1743292799@sflschools.org
SUMMARY:Seton Annual Spring Luncheon
DESCRIPTION:
URL:https://sflschools.org/event/seton-annual-spring-luncheon/
CATEGORIES:Event
ATTACH;FMTTYPE=image/jpeg:https://sflschools.org/wp-content/uploads/2025/03/lunch.jpg
END:VEVENT
END:VCALENDAR